BEGIN:VCALENDAR
VERSION:2.0
PRODID:-//Sami Miranda - ECPv6.15.20//NONSGML v1.0//EN
CALSCALE:GREGORIAN
METHOD:PUBLISH
X-ORIGINAL-URL:https://samimiranda.com
X-WR-CALDESC:Events for Sami Miranda
REFRESH-INTERVAL;VALUE=DURATION:PT1H
X-Robots-Tag:noindex
X-PUBLISHED-TTL:PT1H
BEGIN:VTIMEZONE
TZID:UTC
BEGIN:STANDARD
TZOFFSETFROM:+0000
TZOFFSETTO:+0000
TZNAME:UTC
DTSTART:20220101T000000
END:STANDARD
END:VTIMEZONE
BEGIN:VEVENT
DTSTART;TZID=UTC:20230128T160000
DTEND;TZID=UTC:20230128T180000
DTSTAMP:20260422T091246
CREATED:20230109T015805Z
LAST-MODIFIED:20230109T020410Z
UID:79-1674921600-1674928800@samimiranda.com
SUMMARY:Book Launch
DESCRIPTION:Join the author and friends to celebrate the launch of Protection from Erasure. Music by Pepe Gonzalez\, Iya Mezenov\, and Raciel Suarez. Poetry readings by quique aviles\, Naomi Ayala and Kenneth Carroll.
URL:https://samimiranda.com/event/book-launch/
LOCATION:Bloombars\, 3222 11th St NW\, Washington\, 20011\, United States
END:VEVENT
END:VCALENDAR